BEGIN:VCALENDAR
VERSION:2.0
PRODID:-//NCFC - ECPv4.9.8//NONSGML v1.0//EN
CALSCALE:GREGORIAN
METHOD:PUBLISH
X-WR-CALNAME:NCFC
X-ORIGINAL-URL:http://ncfc.org
X-WR-CALDESC:Events for NCFC
BEGIN:VTIMEZONE
TZID:America/Halifax
BEGIN:DAYLIGHT
TZOFFSETFROM:-0400
TZOFFSETTO:-0300
TZNAME:ADT
DTSTART:20190310T060000
END:DAYLIGHT
BEGIN:STANDARD
TZOFFSETFROM:-0300
TZOFFSETTO:-0400
TZNAME:AST
DTSTART:20191103T050000
END:STANDARD
END:VTIMEZONE
BEGIN:VEVENT
DTSTART;VALUE=DATE:20190424
DTEND;VALUE=DATE:20190426
DTSTAMP:20210520T031212
CREATED:20171115T221011Z
LAST-MODIFIED:20190301T153249Z
UID:3975-1556064000-1556236799@ncfc.org
SUMMARY:Executive Council Meeting
DESCRIPTION:
URL:http://ncfc.org/event/executive-council-meeting/
LOCATION:NCFC Office\, 50 F Street NW\, Suite 900\, Washington\, DC\, 20001\, United States
END:VEVENT
END:VCALENDAR